BEGIN:VCALENDAR
VERSION:2.0
PRODID:-//www.livingearthcentermn.org//NONSGML kigkonsult.se iCalcreator 2.
 30.10//
CALSCALE:GREGORIAN
METHOD:PUBLISH
UID:4e52a802-fd8f-4eba-bd8b-47370ef9f38f
X-WR-CALDESC:Though we are mid-way through the summer season\, pollinators 
 are still at work within our local eco-system and can use our help! \n\nPl
 ease come join Kaylee Carnahan from Moody Bees Honey to learn about pollin
 ators of all types\, what they like to eat to their favorite nesting sites
 . We will go over ways to attract pollinators to your landscape using plan
 ts\, water\, and landscape practices.\n\nJoin us at the Living Earth Cente
 r Garden's Big Red Barn on Good Counsel Hill for an evening to connect wit
 h others pollinator enthusiasts and take a walk to see pollinators in acti
 on. \n\nThe class is free of charge and opened to all age groups! \n\nYou 
 may also be interested in the following events coming up at the Living Ear
 th Center: \n\n* BeeKeeping Basics\n\n
X-WR-RELCALID:c8a078c0f59eeef377da201335adbfad
X-WR-TIMEZONE:America/Chicago
BEGIN:VTIMEZONE
TZID:America/Chicago
BEGIN:STANDARD
TZNAME:CST
DTSTART:20171105T020000
TZOFFSETFROM:-0500
TZOFFSETTO:-0600
RDATE:20181104T020000
RDATE:20191103T020000
END:STANDARD
BEGIN:DAYLIGHT
TZNAME:CDT
DTSTART:20180311T020000
TZOFFSETFROM:-0600
TZOFFSETTO:-0500
RDATE:20190310T020000
END:DAYLIGHT
END:VTIMEZONE
BEGIN:VEVENT
UID:1d5697f3-1e6b-4ae5-92ce-a77726d08059
DTSTAMP:20260422T110204Z
DESCRIPTION:Though we are mid-way through the summer season\, pollinators a
 re still at work within our local eco-system and can use our help! \n\nPle
 ase come join Kaylee Carnahan from Moody Bees Honey to learn about pollina
 tors of all types\, what they like to eat to their favorite nesting sites.
  We will go over ways to attract pollinators to your landscape using plant
 s\, water\, and landscape practices.\n\nJoin us at the Living Earth Center
  Garden's Big Red Barn on Good Counsel Hill for an evening to connect with
  others pollinator enthusiasts and take a walk to see pollinators in actio
 n. \n\nThe class is free of charge and opened to all age groups! \n\nYou m
 ay also be interested in the following events coming up at the Living Eart
 h Center: \n\n* BeeKeeping Basics\n\n
DTSTART;TZID=America/Chicago:20180719T180000
DTEND;TZID=America/Chicago:20180719T193000
LOCATION:Big Red Barn at the Living Earth Garden\, 170 Good Counsel Dr. Man
 kato MN 56001
SUMMARY:Pollinator Planting Workshop
END:VEVENT
END:VCALENDAR
