BEGIN:VCALENDAR
VERSION:2.0
PRODID:-//www.livingearthcentermn.org//NONSGML kigkonsult.se iCalcreator 2.
 30.10//
CALSCALE:GREGORIAN
METHOD:PUBLISH
UID:fe258818-5063-4252-8371-75df06d9828c
X-WR-CALDESC:Join the Living Earth Center and Minnesota Interfaith Power an
 d Light in the Big Red Barn for a presentation and conversation about soci
 ally responsible renewable energy in Minnesota. The economics of clean ene
 rgy are changing at an exciting rate - let's make sure it happens in a way
  that is good for every member of our community!\n\nThis event will includ
 e a presentation from Native solar installer Bob Blake about how the Just 
 Solar Coalition is creating opportunities for marginalized communities to 
 benefit from the emerging clean energy economy. There will also be informa
 tion about local clean energy options and plenty of time for questions and
  discussion. Please park in the Loyola parking lot. All are welcome!
X-WR-RELCALID:7e8f3a6a3648e769f7de70cceb2f9e9f
X-WR-TIMEZONE:America/Chicago
BEGIN:VTIMEZONE
TZID:America/Chicago
BEGIN:STANDARD
TZNAME:CST
DTSTART:20171105T020000
TZOFFSETFROM:-0500
TZOFFSETTO:-0600
RDATE:20181104T020000
RDATE:20191103T020000
END:STANDARD
BEGIN:DAYLIGHT
TZNAME:CDT
DTSTART:20180311T020000
TZOFFSETFROM:-0600
TZOFFSETTO:-0500
RDATE:20190310T020000
END:DAYLIGHT
END:VTIMEZONE
BEGIN:VEVENT
UID:e806791c-9733-451b-be8e-dea169783314
DTSTAMP:20260422T105831Z
DESCRIPTION:Join the Living Earth Center and Minnesota Interfaith Power and
  Light in the Big Red Barn for a presentation and conversation about socia
 lly responsible renewable energy in Minnesota. The economics of clean ener
 gy are changing at an exciting rate - let's make sure it happens in a way 
 that is good for every member of our community!\n\nThis event will include
  a presentation from Native solar installer Bob Blake about how the Just S
 olar Coalition is creating opportunities for marginalized communities to b
 enefit from the emerging clean energy economy. There will also be informat
 ion about local clean energy options and plenty of time for questions and 
 discussion. Please park in the Loyola parking lot. All are welcome!
DTSTART;TZID=America/Chicago:20180712T180000
DTEND;TZID=America/Chicago:20180712T193000
LOCATION:Big Red Barn at the Living Earth Garden
SUMMARY:Clean Energy and Justice: Local Options
END:VEVENT
END:VCALENDAR
